BEGIN:VCALENDAR
VERSION:2.0
PRODID:icalendar-ruby
CALSCALE:GREGORIAN
METHOD:PUBLISH
BEGIN:VEVENT
DTSTAMP:20260421T173954Z
UID:5-2188483@iglesiacasa.tithelysetup2.com
DTSTART:20260524T180000Z
DTEND:20260524T190000Z
CLASS:PUBLIC
CREATED:20260420T163720
DESCRIPTION:Sunday Worship
LAST-MODIFIED:20260420T163720
LOCATION:
SUMMARY:Sunday Worship
URL;VALUE=URI:https://iglesiacasa.tithelysetup2.com/events/sunday-worship/2
 026-05-24
END:VEVENT
END:VCALENDAR
